Workbook

Sheet Operating Budget
C1: Adopted 2016-17 | D1: Adopted 2107-18 | E1: Adopted 2018-19 | F1: Adopted 2019-20 | G1: Adopted 2020-2021 | H1: Adopted 2021-2022 | I1: ADOPTED 2022-23 | J1: ADOPTED 2023-24 | K1: Actual YTD 12/31/2023 | L1: Projected 3/31/2024 | M1: APPROVED 2024-25 | N1: % | O1: Notes
B2: Income
A3: 411 | B3: Operating Assessments | C3: 674704 | D3: 699515 | E3: 695426 | F3: 676150 | G3: =+G62 -> 712900 | H3: 770370 | I3: =+I62 -> 838600 | J3: =+J62 -> 886460 | K3: 664968 | L3: =+I3 -> 838600 | M3: =+M62 -> 1244860.3 | N3: =+M3/J3-1 -> 0.40430514
A4: 412 | B4: Reserve Assessments | C4: 229472 | D4: 235587 | E4: 244506 | F4: 245000 | G4: =+G64 -> 273600 | H4: 309000 | I4: 317478 | J4: =+J64 -> 327002 | K4: 245252 | L4: 327002 | M4: =+M64 -> 640521 | N4: =+M4/J4-1 -> 0.95876784
A5: 415-1 | B5: Hurricane Insurance Claim | K5: 907099 | L5: =+K5 -> 907099
A6: 415-2 | B6: Special Assessment | K6: 80342 | L6: =+K6 -> 80342
A7: 417 | B7: Late Fees | C7: 0 | D7: 0 | E7: 0 | F7: 0 | G7: 0 | H7: 0 | I7: 0 | J7: 0 | K7: 1365 | L7: =+K7/9*12 -> 1820 | M7: 0
A8: 418 | B8: Legal Fees charged to owners | K8: 735 | L8: =+K8/9*12 -> 980
A9: 471 | B9: Application Fees | C9: 0 | D9: 0 | E9: 0 | F9: 0 | G9: 0 | H9: 0 | I9: 0 | J9: 0 | K9: 2550 | L9: =+K9/9*12 -> 3400 | M9: 0
A10: 491 | B10: Operating Interest and other | C10: 0 | D10: 0 | E10: 0 | F10: 0 | G10: 0 | H10: 0 | I10: 0 | J10: 0 | K10: 1707 | L10: =+K10/9*12 -> 2276 | M10: 0
B11: Total Operating Income | C11: =SUM(C3:C10) -> 904176 | D11: =SUM(D3:D10) -> 935102 | E11: =SUBTOTAL(9,E3:E10) -> 939932 | F11: =SUBTOTAL(9,F3:F10) -> 921150 | G11: =SUBTOTAL(9,G3:G10) -> 986500 | H11: 1079370 | I11: =SUBTOTAL(9,I3:I10) -> 1156078 | J11: =SUBTOTAL(9,J3:J10) -> 1213462 | K11: =SUBTOTAL(9,K3:K10) -> 1904018 | L11: =SUBTOTAL(9,L3:L10) -> 2161519 | M11: =SUBTOTAL(9,M3:M10) -> 1885381.3 | N11: =+M11/J11-1 -> 0.55372095
B13: Expenses
B14: Utilities
A15: 500 | B15: Electricity | C15: 20205 | D15: 19000 | E15: 19080 | F15: 19000 | G15: 18000 | H15: 18000 | I15: 18500 | J15: 19000 | K15: 17866 | L15: =+K15/9*12 -> 23821.333 | M15: 24000 | N15: =+M15/J15-1 -> 0.26315789
A16: 504 | B16: Water/Sewer | C16: 43327 | D16: 44000 | E16: 44000 | F16: 43000 | G16: 40000 | H16: 42000 | I16: 43000 | J16: 45000 | K16: 51372 | L16: =+K16/9*12 -> 68496 | M16: 69000 | N16: =+M16/J16-1 -> 0.53333333 | O16: x
A17: 508 | B17: Refuse Removal/Recycling | C17: 12330 | D17: 12500 | E17: 12500 | F17: 12500 | G17: 13500 | H17: 13000 | I17: 14500 | J17: 14500 | K17: 11364 | L17: =+K17/9*12 -> 15152 | M17: 15000 | N17: =+M17/J17-1 -> 0.034482759
A18: 510 | B18: Telephone & Cable | C18: 5273 | D18: 7900 | E18: 7900 | F18: 8200 | G18: 10000 | H18: 10000 | I18: 10500 | J18: 10500 | K18: 7498 | L18: =+K18/9*12 -> 9997.3333 | M18: 10000 | N18: =+M18/J18-1 -> -0.047619048
A19: 511 | B19: Cell Phone | C19: 1000 | D19: 1000 | E19: 1000 | F19: 1000 | G19: 1000 | H19: 1000 | I19: 1000 | J19: 1000 | K19: 411 | L19: =+K19/9*12 -> 548 | M19: 1000 | N19: =+M19/J19-1 -> 0
B20: Total Utilities | C20: =+SUBTOTAL(9,C15:C19) -> 82135 | D20: 84800 | E20: =SUBTOTAL(9,E13:E19) -> 84480 | F20: =SUBTOTAL(9,F13:F19) -> 83700 | G20: =SUBTOTAL(9,G13:G19) -> 82500 | H20: =SUBTOTAL(9,H13:H19) -> 84000 | I20: =SUBTOTAL(9,I13:I19) -> 87500 | J20: =SUBTOTAL(9,J13:J19) -> 90000 | K20: =SUBTOTAL(9,K13:K19) -> 88511 | L20: =SUBTOTAL(9,L13:L19) -> 118014.67 | M20: =SUBTOTAL(9,M13:M19) -> 119000 | N20: =+M20/J20-1 -> 0.32222222
B22: Building
A23: 600 | B23: Building Maintenance | C23: 61893 | D23: 55000 | E23: 59000 | F23: 59000 | G23: 55000 | H23: 60000 | I23: 85000 | J23: 70000 | K23: 45708 | L23: =+K23/9*12 -> 60944 | M23: =+L23 -> 60944 | N23: =+M23/J23-1 -> -0.12937143
A24: 601-1 | B24: Roof Repairs | C24: 5150 | D24: 6000 | E24: 6000 | F24: 10000 | G24: 10000 | H24: 5000 | I24: 10000 | J24: 10000 | K24: 4000 | L24: 10862 | M24: =+L24 -> 10862 | N24: =+M24/J24-1 -> 0.0862
A25: 608 | B25: Exercise Room | C25: 206 | D25: 600 | E25: 600 | F25: 500 | G25: 500 | H25: 500 | I25: 500 | J25: 500 | K25: 0 | L25: 500 | M25: =+L25 -> 500 | N25: =+M25/J25-1 -> 0
A26: 611 | B26: Janitorial/Building Supplies | C26: 3088 | D26: 3000 | E26: 5000 | F26: 5000 | G26: 5000 | H26: 5000 | I26: 5000 | J26: 4000 | K26: 0 | L26: 4000 | M26: =+L26 -> 4000 | N26: =+M26/J26-1 -> 0 | O26: x
A27: 640 | B27: Elevator | C27: 38184 | D27: 42000 | E27: 45000 | F27: 42000 | G27: 46000 | H27: 47000 | I27: 17000 | J27: 17000 | K27: 12224 | L27: =+K27/9*12 -> 16298.667 | M27: =+L27 -> 16298.667 | N27: =+M27/J27-1 -> -0.041254902
A28: 650 | B28: Emergency Systems | C28: 6445 | D28: 7900 | E28: 7900 | F28: 5000 | G28: 8200 | H28: 8500 | I28: 10000 | J28: 10000 | K28: 15759 | L28: 15759 | M28: 16000 | N28: =+M28/J28-1 -> 0.6 | O28: x | P28: JHG - see note
A29: 660 | B29: Pool Maintenance | C29: 8080 | D29: 10500 | E29: 8500 | F29: 6000 | G29: 6500 | H29: 7200 | I29: 7500 | J29: 6500 | K29: 14182 | L29: =+K29/9*12 -> 18909.333 | M29: =+L29-7700 -> 11209.333 | N29: =+M29/J29-1 -> 0.72451282 | O29: x
A30: 662-1 | B30: Pool heat | C30: 6800 | D30: 6800 | E30: 4800 | F30: 3500 | G30: 3500 | H30: 3500 | I30: 3500 | J30: 4000 | K30: 2746 | L30: =+K30/9*12 -> 3661.3333 | M30: =+L30 -> 3661.3333 | N30: =+M30/J30-1 -> -0.084666667
A31: 720 | B31: Fountain Maintenance | C31: 0 | D31: 0 | E31: 0 | F31: 0 | G31: 1000 | H31: 1000 | I31: 1000 | J31: 1500 | K31: 0 | L31: 1553 | M31: =+L31 -> 1553 | N31: =+M31/J31-1 -> 0.035333333
B32: Total | C32: =SUM(C23:C30) -> 129846 | D32: =+SUBTOTAL(9,D23:D30) -> 131800 | E32: =SUBTOTAL(9,E23:E30) -> 136800 | F32: =SUBTOTAL(9,F23:F30) -> 131000 | G32: =SUBTOTAL(9,G23:G30) -> 134700 | H32: =SUBTOTAL(9,H23:H30) -> 136700 | I32: =SUBTOTAL(9,I23:I30) -> 138500 | J32: =SUBTOTAL(9,J23:J31) -> 123500 | K32: =SUBTOTAL(9,K23:K31) -> 94619 | L32: =SUBTOTAL(9,L23:L30) -> 130934.33 | M32: =SUBTOTAL(9,M23:M31) -> 125028.33 | N32: =+M32/J32-1 -> 0.012375169
B34: Grounds
A35: 700 | B35: Landscape Contract | C35: 39600 | D35: 39600 | E35: 42600 | F35: 40000 | G35: 40000 | H35: 35000 | I35: 38000 | J35: 40000 | K35: 29754 | L35: =+K35/9*12 -> 39672 | M35: 44000 | N35: =+M35/J35-1 -> 0.1
A36: 702 | B36: Fertilization/Exterminator | C36: 5781 | D36: 8900 | E36: 8900 | F36: 10000 | G36: 12000 | H36: 11000 | I36: 12000 | J36: 12000 | K36: 6551 | L36: 12120 | M36: =+L36 -> 12120 | N36: =+M36/J36-1 -> 0.01
A37: 703 | B37: Plant Replacement | C37: 17575 | D37: 18250 | E37: 20250 | F37: 20000 | G37: 23000 | H37: 20000 | I37: 20000 | J37: 20000 | K37: 9312 | L37: =+K37/9*12 -> 12416 | M37: 15000 | N37: =+M37/J37-1 -> -0.25
A38: 706 | B38: Mulch | C38: 6351 | D38: 8950 | E38: 8950 | F38: 7000 | G38: 9000 | H38: 9000 | I38: 9500 | J38: 9500 | K38: 1275 | L38: =+K38/9*12 -> 1700 | M38: 9500 | N38: =+M38/J38-1 -> 0 | O38: x
A39: 708 | B39: Sprinkler System | C39: 4118 | D39: 5200 | E39: 10463 | F39: 3000 | G39: 4000 | H39: 5000 | I39: 2000 | J39: 5000 | K39: 23382 | L39: =+K39/9*12 -> 31176 | M39: 7500 | N39: =+M39/J39-1 -> 0.5 | O39: x | P39: JHG - OK
A40: 710 | B40: Tree Trimming | C40: 12119 | D40: 10300 | E40: 10300 | F40: 15000 | G40: 15000 | H40: 15000 | I40: 15000 | J40: 15000 | K40: 15296 | L40: 19000 | M40: =+L40 -> 19000 | N40: =+M40/J40-1 -> 0.26666667
A41: 719 | B41: Lake Maintenance | C41: 2329 | D41: 2400 | E41: 2400 | F41: 1500 | G41: 1500 | H41: 2500 | I41: 2000 | J41: 2000 | K41: 1625 | L41: =+K41/9*12 -> 2166.6667 | M41: 2200 | N41: =+M41/J41-1 -> 0.1
A42: 724 | B42: Hurricane Expense | I42: 0 | J42: 0 | K42: 305856 | L42: =+K42/9*12 -> 407808 | M42: 0
A43: 734 | B43: Holiday Décor | C43: 10325 | D43: 10325 | E43: 10345 | F43: 6000 | G43: 6000 | H43: 6000 | I43: 6000 | J43: 6000 | K43: 8000 | L43: 8000 | M43: =+L43 -> 8000 | N43: =+M43/J43-1 -> 0.33333333
...

Sheet NOTES
A2: Account | C2: Notes
A5: 504 | B5: Water/Sewer | C5: big rate increase in July 2023 plus excess ussage from irrigation projects. | D5: OK JG
A6: 611 | B6: =+'Operating Budget'!B26 -> Janitorial/Building Supplies | C6: recode janitorial supply expenses that were charged to #600 | D6: OK JG
A7: 650 | B7: =+'Operating Budget'!B28 -> Emergency Systems | C7: $43,375 credit from Nichols Contracting for 2022 expense. Acutal 2023 exp $25470 | D7: see note below
A8: 660 | B8: Pool Maintenance | C8: $7726 repairs per health dept. Reserves? | D8: OK JG
A9: 706 | B9: =+'Operating Budget'!B38 -> Mulch | C9: mulch was charged to Reserves $3,312.45 | D9: OK JG
A10: 708 | B10: =+'Operating Budget'!B39 -> Sprinkler System | C10: no idea how much longer massive sprinkler repairs will continue. From Reserves? | D10: OK JG
A11: 801-2 | B11: =+'Operating Budget'!B49 -> Personnel on Site | C11: additional summer help permanent? | D11: see note below
A12: 814 | B12: =+'Operating Budget'!B55 -> Consulting Fees | C12: structural column consulting is in Reserves. Drainage is not | D12: see note below
A13: 835 | B13: Insurance | C13: probably will be more. | D13: see note below
A14: 905 | B14: =+'Operating Budget'!B64 -> RESERVES | C14: Reserve contribution increased 55% for same year from 2022 RS to 2023 RS | D14: see note below
A27: 801-2 Onsite Personnel
A28: Rich $7500 per month
A29: Yosvany $6200 per month
A30: Erisney $1500 per month
A31: Total $15200 per month (Annual $182400)
A34: JOHN GREEN Notes:
A35: INSURNACE - current monthly expense is $44,582.43 or $534,989 annual. A 15% increase makes annual $615,237
A36: RESERVES - our most recent reserve study page 28 under Misc Site Improvements - Misc Items has a $12K allowance
A37: for "stormwater drainage system allowance". The propsed project around building C is approx $235K including related sprinkler
A38: system repairs. The project is under funded by $220K. The current reserve study calls for $520,521 for fiscal year 24/25. I suggest
A39: we increase the funding by $30K/qtr ($120/year) for 2 years, bringing the 24/25 year to $640,521. I believe this preferable to an assessment.
A40: CONSULTING - Peninsula Engineering is the drainage consultant and those fees have been charged to reserve. The $12K charged YTD
... A67: 10% to 44K.

Sheet Fee Calc
A4: Annual Assessment for 26 A,B,G units | B4: =+B16 -> 14277.72
A5: Annual Assessment for 105 C,D,E,F,H units | B5: =+B18 -> 14420.577
A6: Quarterly Assessment for A,B,G units | B6: =ROUND(+B4/4,0) -> 3569 | C6: x4= | D6: =+B6*4 -> 14276 | E6: x26= | F6: =+D6*26 -> 371176
A7: Quarterly Assessment for C,D,E,F,H units | B7: =ROUND(+B5/4,0) -> 3605 | C7: x4= | D7: =+B7*4 -> 14420 | E7: x105= | F7: =+D7*105 -> 1514100
A8: Collected | F8: =SUM(F6:F7) -> 1885276
A10: Fee Adjustment for Trash Collection
A11: Buildings A,B,G pay for trash collection through tax bill (26 units)
A13: Total Annual Budget | B13: =+'Operating Budget'!M66 -> 1885381.3 | E13: Collected v. Budget | F13: =+B13-F8 -> 105.33333
A14: Trash collection budgeted by Association for buildings C,D,E,F,H | B14: =+'Operating Budget'!M17 -> 15000
A15: Total Annual Budget less Trash Collection | B15: =+B13-B14 -> 1870381.3
A16: everybody pays a share total / 131 (Annual for ABG) | B16: =+B15/131 -> 14277.72
A17: divide annual trash collection amongst CDEFH units (105 units) | B17: =+B14/105 -> 142.85714
A18: add trash collection for CDEFH fee (Annual for CDEFH) | B18: =+B16+B17 -> 14420.577
